BEGIN:VCALENDAR
VERSION:2.0
PRODID:-//The Social Book - Houston - ECPv6.15.20//NONSGML v1.0//EN
CALSCALE:GREGORIAN
METHOD:PUBLISH
X-WR-CALNAME:The Social Book - Houston
X-ORIGINAL-URL:https://thesocialbook.com
X-WR-CALDESC:Events for The Social Book - Houston
REFRESH-INTERVAL;VALUE=DURATION:PT1H
X-Robots-Tag:noindex
X-PUBLISHED-TTL:PT1H
BEGIN:VTIMEZONE
TZID:America/Chicago
BEGIN:DAYLIGHT
TZOFFSETFROM:-0600
TZOFFSETTO:-0500
TZNAME:CDT
DTSTART:20190310T080000
END:DAYLIGHT
BEGIN:STANDARD
TZOFFSETFROM:-0500
TZOFFSETTO:-0600
TZNAME:CST
DTSTART:20191103T070000
END:STANDARD
BEGIN:DAYLIGHT
TZOFFSETFROM:-0600
TZOFFSETTO:-0500
TZNAME:CDT
DTSTART:20200308T080000
END:DAYLIGHT
BEGIN:STANDARD
TZOFFSETFROM:-0500
TZOFFSETTO:-0600
TZNAME:CST
DTSTART:20201101T070000
END:STANDARD
BEGIN:DAYLIGHT
TZOFFSETFROM:-0600
TZOFFSETTO:-0500
TZNAME:CDT
DTSTART:20210314T080000
END:DAYLIGHT
BEGIN:STANDARD
TZOFFSETFROM:-0500
TZOFFSETTO:-0600
TZNAME:CST
DTSTART:20211107T070000
END:STANDARD
BEGIN:DAYLIGHT
TZOFFSETFROM:-0600
TZOFFSETTO:-0500
TZNAME:CDT
DTSTART:20220313T080000
END:DAYLIGHT
BEGIN:STANDARD
TZOFFSETFROM:-0500
TZOFFSETTO:-0600
TZNAME:CST
DTSTART:20221106T070000
END:STANDARD
BEGIN:DAYLIGHT
TZOFFSETFROM:-0600
TZOFFSETTO:-0500
TZNAME:CDT
DTSTART:20230312T080000
END:DAYLIGHT
BEGIN:STANDARD
TZOFFSETFROM:-0500
TZOFFSETTO:-0600
TZNAME:CST
DTSTART:20231105T070000
END:STANDARD
END:VTIMEZONE
BEGIN:VEVENT
DTSTART;TZID=America/Chicago:20220409T183000
DTEND;TZID=America/Chicago:20220409T235900
DTSTAMP:20260424T082618
CREATED:20220204T041216Z
LAST-MODIFIED:20220204T041216Z
UID:10004415-1649529000-1649548740@thesocialbook.com
SUMMARY:2022 Houston Grand Opera Ball
DESCRIPTION:Red carpet arrival\, cocktails\, dinner\, silent auction and dancing. An ENCORE after-party follows.
URL:https://thesocialbook.com/event/2022-houston-grand-opera-ball/
LOCATION:Wortham Theater Center\, 501 Texas Avenue\, Houston\, TX\, 77002\, United States
CATEGORIES:Charity/Fundraising
ATTACH;FMTTYPE=image/jpeg:https://thesocialbook.com/wp-content/uploads/2020/03/icon-charity-funraising-events.jpg
END:VEVENT
BEGIN:VEVENT
DTSTART;TZID=America/Chicago:20220402T190000
DTEND;TZID=America/Chicago:20220402T230000
DTSTAMP:20260424T082618
CREATED:20210803T161008Z
LAST-MODIFIED:20210803T161008Z
UID:10004880-1648926000-1648940400@thesocialbook.com
SUMMARY:Society for the Performing Arts 2022 Gala
DESCRIPTION:Annual gala dinner which includes live auction\, entertainment\, dancing and a kaleidoscope of performers that reflect and celebrate Houston’s diverse artistic landscape\, including live music by Asleep at the Wheel.
URL:https://thesocialbook.com/event/society-for-the-performing-arts-2022-gala/
LOCATION:Wortham Theater Center\, 501 Texas Avenue\, Houston\, TX\, 77002\, United States
CATEGORIES:Charity/Fundraising
ATTACH;FMTTYPE=image/jpeg:https://thesocialbook.com/wp-content/uploads/2020/03/icon-charity-funraising-events.jpg
END:VEVENT
BEGIN:VEVENT
DTSTART;TZID=America/Chicago:20220219T190000
DTEND;TZID=America/Chicago:20220219T233000
DTSTAMP:20260424T082619
CREATED:20211223T030401Z
LAST-MODIFIED:20211223T030401Z
UID:10004391-1645297200-1645313400@thesocialbook.com
SUMMARY:Houston Ballet Ball 2022
DESCRIPTION:The black-tie event offers a three-course seated dinner\, silent auction\, entertainment and dancing.
URL:https://thesocialbook.com/event/houston-ballet-ball-2022/
LOCATION:Wortham Theater Center\, 501 Texas Avenue\, Houston\, TX\, 77002\, United States
CATEGORIES:Charity/Fundraising
ATTACH;FMTTYPE=image/jpeg:https://thesocialbook.com/wp-content/uploads/2020/03/icon-charity-funraising-events.jpg
END:VEVENT
BEGIN:VEVENT
DTSTART;TZID=America/Chicago:20220121T190000
DTEND;TZID=America/Chicago:20220121T220000
DTSTAMP:20260424T082619
CREATED:20220204T035812Z
LAST-MODIFIED:20220204T035812Z
UID:10004413-1642791600-1642802400@thesocialbook.com
SUMMARY:34th Annual HGO Concert of Arias-Live Vocal Competition Finals & Celebration Dinner
DESCRIPTION:Concert with celebration dinner with the finalists and HGO Studio artists to follow.
URL:https://thesocialbook.com/event/34th-hgo-concert-of-arias/
LOCATION:Wortham Theater Center\, 501 Texas Avenue\, Houston\, TX\, 77002\, United States
CATEGORIES:Charity/Fundraising
ATTACH;FMTTYPE=image/jpeg:https://thesocialbook.com/wp-content/uploads/2020/03/icon-charity-funraising-events.jpg
END:VEVENT
BEGIN:VEVENT
DTSTART;TZID=America/Chicago:20210930T190000
DTEND;TZID=America/Chicago:20210930T223000
DTSTAMP:20260424T082619
CREATED:20210719T195928Z
LAST-MODIFIED:20210719T195928Z
UID:10004874-1633028400-1633041000@thesocialbook.com
SUMMARY:Margaret Alkek Williams Jubilee of Dance Onstage Dinner
DESCRIPTION:Ballet performance with dinner on-stage immediately following.
URL:https://thesocialbook.com/event/margaret-alkek-williams-jubilee-of-dance-onstage-dinner/
LOCATION:Wortham Theater Center\, 501 Texas Avenue\, Houston\, TX\, 77002\, United States
CATEGORIES:Charity/Fundraising
ATTACH;FMTTYPE=image/jpeg:https://thesocialbook.com/wp-content/uploads/2020/03/icon-charity-funraising-events.jpg
END:VEVENT
BEGIN:VEVENT
DTSTART;TZID=America/Chicago:20210410T190000
DTEND;TZID=America/Chicago:20210410T230000
DTSTAMP:20260424T082619
CREATED:20201008T035335Z
LAST-MODIFIED:20201008T035335Z
UID:10004765-1618081200-1618095600@thesocialbook.com
SUMMARY:Opera Ball— "Une Nuit à Marrakech"
DESCRIPTION:
URL:https://thesocialbook.com/event/opera-ball-une-nuit-a-marrakech/
LOCATION:Wortham Theater Center\, 501 Texas Avenue\, Houston\, TX\, 77002\, United States
CATEGORIES:Charity/Fundraising
ATTACH;FMTTYPE=image/jpeg:https://thesocialbook.com/wp-content/uploads/2020/03/icon-charity-funraising-events.jpg
END:VEVENT
BEGIN:VEVENT
DTSTART;TZID=America/Chicago:20200418T190000
DTEND;TZID=America/Chicago:20200418T223000
DTSTAMP:20260424T082619
CREATED:20200212T120829Z
LAST-MODIFIED:20200212T120829Z
UID:10003818-1587236400-1587249000@thesocialbook.com
SUMMARY:Society for the Performing Arts Spring Gala-"Vibrant"-CANCELED
DESCRIPTION:Gala dinner\, live/silent auction\, bubble bar\, and entertainment.
URL:https://thesocialbook.com/event/society-for-the-performing-arts-spring-gala-vibrant/
LOCATION:Wortham Theater Center\, 501 Texas Avenue\, Houston\, TX\, 77002\, United States
CATEGORIES:Charity/Fundraising
ATTACH;FMTTYPE=image/jpeg:https://thesocialbook.com/wp-content/uploads/2020/03/icon-charity-funraising-events.jpg
ORGANIZER;CN="Scott Evans":MAILTO:rsvp@socialbook.com&amp;subject=SocialBook
END:VEVENT
BEGIN:VEVENT
DTSTART;TZID=America/Chicago:20200222T190000
DTEND;TZID=America/Chicago:20200223T000000
DTSTAMP:20260424T082619
CREATED:20200120T003553Z
LAST-MODIFIED:20200120T003553Z
UID:10003791-1582398000-1582416000@thesocialbook.com
SUMMARY:Houston Ballet Ball-Fiftieth Anniversary
DESCRIPTION:Evening includes silent auction\, seated dinner\, and entertainment and dancing amongst Houston Ballet company dancers.
URL:https://thesocialbook.com/event/houston-ballet-ball/
LOCATION:Wortham Theater Center\, 501 Texas Avenue\, Houston\, TX\, 77002\, United States
CATEGORIES:Charity/Fundraising
ATTACH;FMTTYPE=image/jpeg:https://thesocialbook.com/wp-content/uploads/2020/03/icon-charity-funraising-events.jpg
ORGANIZER;CN="Scott Evans":MAILTO:rsvp@socialbook.com&amp;subject=SocialBook
END:VEVENT
END:VCALENDAR